BEGIN:VCALENDAR
VERSION:2.0
PRODID:-//TalTech Kultuuriklubi - ECPv6.15.20//NONSGML v1.0//EN
CALSCALE:GREGORIAN
METHOD:PUBLISH
X-WR-CALNAME:TalTech Kultuuriklubi
X-ORIGINAL-URL:https://www.kultuuriklubi.ee
X-WR-CALDESC:Events for TalTech Kultuuriklubi
REFRESH-INTERVAL;VALUE=DURATION:PT1H
X-Robots-Tag:noindex
X-PUBLISHED-TTL:PT1H
BEGIN:VTIMEZONE
TZID:Europe/Tallinn
BEGIN:DAYLIGHT
TZOFFSETFROM:+0200
TZOFFSETTO:+0300
TZNAME:EEST
DTSTART:20220327T010000
END:DAYLIGHT
BEGIN:STANDARD
TZOFFSETFROM:+0300
TZOFFSETTO:+0200
TZNAME:EET
DTSTART:20221030T010000
END:STANDARD
BEGIN:DAYLIGHT
TZOFFSETFROM:+0200
TZOFFSETTO:+0300
TZNAME:EEST
DTSTART:20230326T010000
END:DAYLIGHT
BEGIN:STANDARD
TZOFFSETFROM:+0300
TZOFFSETTO:+0200
TZNAME:EET
DTSTART:20231029T010000
END:STANDARD
BEGIN:DAYLIGHT
TZOFFSETFROM:+0200
TZOFFSETTO:+0300
TZNAME:EEST
DTSTART:20240331T010000
END:DAYLIGHT
BEGIN:STANDARD
TZOFFSETFROM:+0300
TZOFFSETTO:+0200
TZNAME:EET
DTSTART:20241027T010000
END:STANDARD
END:VTIMEZONE
BEGIN:VEVENT
DTSTART;TZID=Europe/Tallinn:20230202T230000
DTEND;TZID=Europe/Tallinn:20230203T050000
DTSTAMP:20260421T004855
CREATED:20230122T184458Z
LAST-MODIFIED:20230122T184458Z
UID:1449-1675378800-1675400400@www.kultuuriklubi.ee
SUMMARY:[02.02] Kevadine Semestri Avalöök
DESCRIPTION:#Fasttrack –  \nUus aasta vastu võetud\, eksamitega ühele poole saadud ning pärast suuri õnnestumisi olete kõik stipi peal\, eks? \nSuper\, nüüd on aeg stipp maha pidutseda ning võtta vastu kauaoodatud kevadsemester\, et oma lubadusele “ma actually hakkan nüüd õppima” hoogu anda. \nUue semestri tõmbab käima TTÜ Kultuuriklubi poolt korraldatud SEMESTRI AVALÖÖK!! \nÜheskoos seame sammud 2. veebruaril Club Studio poole\, kus peame maha korraliku peo\, et anda üks tugev Avalöök eesseisvale semestrile.  \nNB! Peole on oodatud kõik\, olenemata tudengistaatusest. Rangelt soovituslik on kaasa haarata ka kõik oma peoloomadest sõbrad! \n▬▬▬▬▬▬▬▬▬▬▬▬▬▬▬▬▬▬▬▬▬\nLINE-UP\n▬▬▬▬▬▬▬▬▬▬▬▬▬▬▬▬▬▬▬▬▬ \nI KORRUSEL:\n– Rami\n– Löukii\n– Moistus \nII KORRUSEL:\n– Whogaux\n– Saulus\n– Birddy\n– Pahv \n▬▬▬▬▬▬▬▬▬▬▬▬▬▬▬▬▬▬▬▬▬\nPRACTICAL\n▬▬▬▬▬▬▬▬▬▬▬▬▬▬▬▬▬▬▬▬▬ \nPILETID/TICKETS\n7€ early bird\n10 € regular bird\n12€ kohapeal/on the spot \nEELMÜÜK/ PRESALE: https://gateme.com/event/97842/ \nNB! Kui ostad pileti eelmüügist\, siis pane  palun ostes kirja oma ees -ja perekonnanimi ning kui ostad pileti sõbrale\, siis kirjuta tema nimi. Muidu võib sul tekkida raskusi sissepääsemisega. Aitäh! \nFASTTRACK: \nVanus/Age: 18+\nUksed/Doors: 23.00 \n▬▬▬▬▬▬▬▬▬▬▬▬▬▬▬▬▬▬▬▬▬\nDOOR POLICY & DRESS CODE\n▬▬▬▬▬▬▬▬▬▬▬▬▬▬▬▬▬▬▬▬▬\nMeil on uksel autokraatia ja klubis sees demokraatia!\nPalume austada turvameeste otsust\, kui nad ei luba Sind antud õhtul klubisse. Võimalik\, et mõistad järgmisel hommikul ka ise\, et nii oli kõigile parem.\nRiideid valides arvesta\, et igal esemel on oma aeg ja koht. Jäägu spordiriided trennikotti ning klubisse tulles vali midagi\, mis läheb kokku sõnapaariga smart casual.
URL:https://www.kultuuriklubi.ee/event/kevadine-semestri-avalook-23/
LOCATION:Studio\, Sauna 1\, Tallinn\, 10140\, EE
CATEGORIES:Üritused
ATTACH;FMTTYPE=image/jpeg:https://www.kultuuriklubi.ee/wp-content/uploads/2023/01/1449_image_323331819_1355784141847006_1108873778247910185_n.jpg
ORGANIZER;CN="TT%C3%9C Kultuuriklubi":MAILTO:kontakt@kultuuriklubi.ee
END:VEVENT
END:VCALENDAR