BEGIN:VCALENDAR
VERSION:2.0
PRODID:-//TalTech Kultuuriklubi - ECPv6.15.20//NONSGML v1.0//EN
CALSCALE:GREGORIAN
METHOD:PUBLISH
X-WR-CALNAME:TalTech Kultuuriklubi
X-ORIGINAL-URL:https://www.kultuuriklubi.ee
X-WR-CALDESC:Events for TalTech Kultuuriklubi
REFRESH-INTERVAL;VALUE=DURATION:PT1H
X-Robots-Tag:noindex
X-PUBLISHED-TTL:PT1H
BEGIN:VTIMEZONE
TZID:Europe/Tallinn
BEGIN:DAYLIGHT
TZOFFSETFROM:+0200
TZOFFSETTO:+0300
TZNAME:EEST
DTSTART:20230326T010000
END:DAYLIGHT
BEGIN:STANDARD
TZOFFSETFROM:+0300
TZOFFSETTO:+0200
TZNAME:EET
DTSTART:20231029T010000
END:STANDARD
BEGIN:DAYLIGHT
TZOFFSETFROM:+0200
TZOFFSETTO:+0300
TZNAME:EEST
DTSTART:20240331T010000
END:DAYLIGHT
BEGIN:STANDARD
TZOFFSETFROM:+0300
TZOFFSETTO:+0200
TZNAME:EET
DTSTART:20241027T010000
END:STANDARD
BEGIN:DAYLIGHT
TZOFFSETFROM:+0200
TZOFFSETTO:+0300
TZNAME:EEST
DTSTART:20250330T010000
END:DAYLIGHT
BEGIN:STANDARD
TZOFFSETFROM:+0300
TZOFFSETTO:+0200
TZNAME:EET
DTSTART:20251026T010000
END:STANDARD
END:VTIMEZONE
BEGIN:VEVENT
DTSTART;TZID=Europe/Tallinn:20241202T100000
DTEND;TZID=Europe/Tallinn:20241202T150000
DTSTAMP:20260421T174809
CREATED:20241128T072950Z
LAST-MODIFIED:20241128T072950Z
UID:1958-1733133600-1733151600@www.kultuuriklubi.ee
SUMMARY:[02.12] mott. #brunch
DESCRIPTION:imeline jõuluaeg….finally!\n\njälle see kevin möllab pättidega ja ka see aasta on suur tõenäosus et ta jääb üksi koju. kultuuriklubi aga otsustas sellel aastal veidi asju teistmoodi teha\, sest why not? motiveerida saab ka ju hommikul koos lauamängude\, muusika ja….kohvi ning võikuga. \n\nasi purgis\, 2.detsember kl 10-15 ootame kogu koolipere nautima ühiselt esimest jõulukuu esmaspäeva peamaja caffeine et ühiselt juua kohvi-kakaod-teed\, mängida enne tundi mõni lauamäng ning nautida meeleolus päeva kõik koos! saab jõululaule\, saab ka midagi muud huvitavat ehk kogu päev on täis lihtsalt nii head meeldivat meeleolu\, et isegi marv ja harry lõpetaks oma wet bandits stuffi koheselt. esimese advendi afterparty here we go\n\nmeeleolumuusika by kultuuriklubi uued ja vanad\njutustajad/motivaatorid tba\nparim kohv\, präänik\, pudru ja võileib by caffeine\nlauamängudega käitu nagu sa oleksid oma kodus!\n\npilet on null eurot\, raha jäta kohvikusse!ära unusta\, päkapikud piiluvad!
URL:https://www.kultuuriklubi.ee/event/02-12-mott-brunch/
LOCATION:TalTech Caffeine
CATEGORIES:Üritused
ATTACH;FMTTYPE=image/png:https://www.kultuuriklubi.ee/wp-content/uploads/2024/11/FB-cover.png
ORGANIZER;CN="TalTech Kultuuriklubi":MAILTO:kontakt@kultuuriklubi.ee
END:VEVENT
BEGIN:VEVENT
DTSTART;TZID=Europe/Tallinn:20241223T130000
DTEND;TZID=Europe/Tallinn:20241223T220000
DTSTAMP:20260421T174809
CREATED:20241218T202306Z
LAST-MODIFIED:20241218T202306Z
UID:2053-1734958800-1734991200@www.kultuuriklubi.ee
SUMMARY:[23.12] mott. #christmas
DESCRIPTION:läbi aegade parim jõulusaade mott. christmas on tagasi\, et aidata kaasa piparkookide küpsetamisele\, pakkuda magusat seapraadi ning lõpuks vürtsitada ka kõrvasid malbete helirütmidega siitsealtpoolt maailmast! saab jõululaule\, luuletusi ning ehk ka jõuluvana teeb comebacki\, sest kaks aastat tagasi ta saates käis ning sellest ajast peale on ta elanud akadeemia ühikas. mõte on kõva! 23.detsember kl 13-22 läheb käima 2k24 kõige kõvem jõulusaade\, millele ei saa vastu ka edekabel!  \n  \naitame seekord ka neid\, kes abi vajavad kõige rohkem. lähme appi Tallinna Lastehaigla Toetusfondile\, et tulevased professorid ning maailmamuutjad saaksid parimat ravi ning võimalusi tervenemiseks. annetada on hea ja annetamine on tunne\, mis jääb südamesse helisema! <3 \n  \ntäname teid\, taltech filmiklubi\, et olete meiega! \n  \npurustame üheskoos rekordeid ning naudime jõulutunnet \n  \nstriimi link: kultuuriklubi.ee/mott \nannetuslink: coming very soon! \n  \njõulupraadi serveerivad muusikaliselt \n  \nr4ndo \nlepix \nmaplehill \nurve & laura \nra x madi \nõhtune soodustus (medium rare jõuluprae eri) \nlöukii \n  \nvaata koos mampsi\, papsi ja päkapikkudega ükskõik kus sa oled!
URL:https://www.kultuuriklubi.ee/event/23-12-mott-christmas/
LOCATION:Virtual event
ATTACH;FMTTYPE=image/jpeg:https://www.kultuuriklubi.ee/wp-content/uploads/2024/12/mott.-christmas-fb-event.jpg
END:VEVENT
END:VCALENDAR