BEGIN:VCALENDAR
VERSION:2.0
PRODID:-//TalTech Kultuuriklubi - ECPv6.15.20//NONSGML v1.0//EN
CALSCALE:GREGORIAN
METHOD:PUBLISH
X-ORIGINAL-URL:https://www.kultuuriklubi.ee
X-WR-CALDESC:Events for TalTech Kultuuriklubi
REFRESH-INTERVAL;VALUE=DURATION:PT1H
X-Robots-Tag:noindex
X-PUBLISHED-TTL:PT1H
BEGIN:VTIMEZONE
TZID:Europe/Tallinn
BEGIN:DAYLIGHT
TZOFFSETFROM:+0200
TZOFFSETTO:+0300
TZNAME:EEST
DTSTART:20210328T010000
END:DAYLIGHT
BEGIN:STANDARD
TZOFFSETFROM:+0300
TZOFFSETTO:+0200
TZNAME:EET
DTSTART:20211031T010000
END:STANDARD
BEGIN:DAYLIGHT
TZOFFSETFROM:+0200
TZOFFSETTO:+0300
TZNAME:EEST
DTSTART:20220327T010000
END:DAYLIGHT
BEGIN:STANDARD
TZOFFSETFROM:+0300
TZOFFSETTO:+0200
TZNAME:EET
DTSTART:20221030T010000
END:STANDARD
BEGIN:DAYLIGHT
TZOFFSETFROM:+0200
TZOFFSETTO:+0300
TZNAME:EEST
DTSTART:20230326T010000
END:DAYLIGHT
BEGIN:STANDARD
TZOFFSETFROM:+0300
TZOFFSETTO:+0200
TZNAME:EET
DTSTART:20231029T010000
END:STANDARD
END:VTIMEZONE
BEGIN:VEVENT
DTSTART;TZID=Europe/Tallinn:20220915T230000
DTEND;TZID=Europe/Tallinn:20220916T050000
DTSTAMP:20260421T044626
CREATED:20220818T120442Z
LAST-MODIFIED:20220818T120601Z
UID:1400-1663282800-1663304400@www.kultuuriklubi.ee
SUMMARY:[15.09] Topelt Rebaste Pidu
DESCRIPTION:🇪🇪 𝐓𝐎𝐏𝐄𝐋𝐓 𝐑𝐄𝐁𝐀𝐒𝐓𝐄 𝐏𝐈𝐃𝐔 \nAuuuuuu kõik rebased!! 🦊🦊 \n↓ “Topelt Rebaste Pidu” on 2. samm kolmest\, saamaks rebasest täistõuliseks tipikaks: ↓ \nKõik REBASED ja REBASEMEELSED\, see pidu on Teile\, sest käes on aeg\, et teha rebastest ühed pöörased tipikad ❗️Selleks koguneme klubisse HOLLYWOOD\, kus paneme kõik rebased tantsupõrandal üheskoos ulguma\, et otsida endast välja tõeline tipikas. 🍾 \nNB! Peole on oodatud kõik\, olenemata koolist ja tudengistaatusest. \nNäeme tantsuplatsil!! 💃 \n🇬🇧 𝐓𝐎𝐏𝐄𝐋𝐓 𝐑𝐄𝐁𝐀𝐒𝐓𝐄 𝐏𝐈𝐃𝐔 \n↓ “Topelt rebaste pidu” is 2nd step out of three\, to become a full valued student↓ 🦊🦊 \nAll FOXES and FOX LOVERS\, this party is for you\, because it’s time to party! To successfully pass the second milestone of the TRILOGY\, you must come to club HOLLYWOOD\, where we will make all the foxes howl together on the dance floor. \nNB! Everyone is welcome at the party\, regardless of the student status and school.\nSee you on the dance floor!! 💃\n▬▬▬▬▬▬▬▬▬▬▬▬▬▬▬▬▬▬▬▬▬\n🇪🇪 𝐏𝐈𝐋𝐄𝐓𝐈𝐃:\n🎟 8€ varajane rebane\n🎟 10€ õigel ajal jaole saanud rebane\n🎟 12€ hiline rebane/kohapeal\nLINK: peagi tulemas! \n🇬🇧𝐓𝐈𝐂𝐊𝐄𝐓𝐒:\n🎟 8€ early fox\n🎟 10€ right on time fox\n🎟 12€ late fox/on spot\nLINK: coming soon!\n▬▬▬▬▬▬▬▬▬▬▬▬▬▬▬▬▬▬▬▬▬\n🔥𝐋𝐈𝐍𝐄-𝐔𝐏 \n💿Siimi\ninstagram.com/djsiimi/\nsoundcloud.com/djsiimi \n💿Lill\ninstagram.com/lilbitgert/\nsoundcloud.com/oiei \n💿Löukii & sõbrad\ninstagram.com/l6ukii\nsoundcloud.com/l6ukii \n💿Birddy\ninstagram.com/djbirddy\nsoundcloud.com/djbirddy \n💿Kendik\nsoundcloud.com/kent-marcus\ninstagram.com/kentmarcus/ \n💿PHV\ninstagram.com/vladlenpahv \n💿9bit\nsoundcloud.com/96it\ninstagram.com/andrei.liberson
URL:https://www.kultuuriklubi.ee/event/15-09-topelt-rebaste-pidu/
LOCATION:Club Hollywood\, Vana-Posti 8\, Tallinn\, 10146\, EE
CATEGORIES:Üritused
ATTACH;FMTTYPE=image/jpeg:https://www.kultuuriklubi.ee/wp-content/uploads/2022/08/1400_image_299151638_10160256178263216_6983491303401202320_n.jpg
ORGANIZER;CN="TT%C3%9C Kultuuriklubi":MAILTO:kontakt@kultuuriklubi.ee
END:VEVENT
BEGIN:VEVENT
DTSTART;TZID=Europe/Tallinn:20220930T220000
DTEND;TZID=Europe/Tallinn:20221001T050000
DTSTAMP:20260421T044626
CREATED:20220918T204842Z
LAST-MODIFIED:20220918T204842Z
UID:1410-1664575200-1664600400@www.kultuuriklubi.ee
SUMMARY:[30.09] Tudengkonna 102. sünnipäev
DESCRIPTION:↓ !ENGLISH BELOW! ↓ \nCan you frickin’ believe it….kätte on jõudnud viimane pidu meie suurest triloogiast! 🥳 \n↓ “Tudengkonna 102. sünnipäev” on 3. samm kolmest\, saamaks rebasest täistõuliseks tipikaks: ↓ \nPidude triloogiale paneb VÕIMSA punkti suurejooneline ja LEGENDAARNE parklapidu\, 🅿️mis on suurim omalaadne Eestis! Sünnipäeva tähistamiseks seame sammud TalTechi maa-aluse parkla poole (Akadeemia tee 7/1 ja 7/2 vahele). Tudengkonna 102. sünnipäevale on oodatud kõik tudengid\, tudengimeelsed\, õppejõud\, vilistlased ja ka teiste koolide esindajad\, et üheskoos pidada maha simman\, mis jääb meelde igaveseks! 🍾 \nSünnipäevale tuleb mussi mängima ja maa all pidulisi hullutama ei keegi muu kui Tipikate suur lemmik Traffic !! 🤩 \nPS! Kui sa pole käinud parklapeol\, siis sa pole õige tipikas! 👎 \nNB! Peole on oodatud kõik\, olenemata tudengistaatusest.\n———————————————————————\nPILETID:\n🎟13 € varajane sünnipäevaline\n🎟17 € õigel ajal jaole saanud sünnipäevaline\n🎟20 € hiline sünnipäevaline/kohapeal\nLINK: https://gateme.com/event/97362/\n———————————————————————\nLINE UP\nTraffic\nwww.youtube.com/watch?v=FIAqZHBHI0U\nDr Muul (Rämmar)\ninstagram.com/drmuul/\nmixcloud.com/drmuul\nLöukii\ninstagram.com/l6ukii\nsoundcloud.com/l6ukii\nBirddy\ninstagram.com/djbirddy\nsoundcloud.com/djbirddy\nPHV\ninstagram.com/vladlenpahv\n———————————————————————\nTegu on 18+ üritusega\, sissepääs vaid dokumendi alusel!\nUksed: 22:00 🚪 \nNäeme parklas!! \n>>>>>>>>>>>>>>>>>>>>>>>>>>>>>>>>>>>>>>>>>>>> \n!ENGLISH! \nCan you frickin’ believe it….the last party of our big trilogy is finally here! 🥳 \n↓ “Tudengkonna 102. sünnipäev” is the last step out of three\, to become a full valued student↓ \nA spectacular and LEGENDARY parking lot party\, 🅿️ which is the largest of its kind in Estonia\, puts a powerful end to the trilogy of parties! \nTo celebrate the birthday\, you must come to the underground parking lot of TalTech (Academia street between 7/1 and 7/2). All students\, student-minded\, alumni and also representatives of other schools are welcome to Tudengkonna 102. sünnipäev\, to celebrate and create memories that will last forever! 🍾 \nAnd who else will come\, press buttons and eat some cake except everyone’s favorite Traffic! 🤩 \nPS! If you haven’t been to a parking lot party\, you’re not a full valued student! 👎 \nNB! Everyone is welcome at the party\, regardless of the student status. \n———————————————————————\nTICKETS:\n🎟13 € early bird\n🎟17 € regular bird\n🎟20 € late bird\nLINK: https://gateme.com/event/97362/\n———————————————————————\nLINE UP\nTraffic\nwww.youtube.com/watch?v=FIAqZHBHI0U\nDr Muul (Rämmar)\ninstagram.com/drmuul/\nmixcloud.com/drmuul\nLöukii\ninstagram.com/l6ukii\nsoundcloud.com/l6ukii\nBirddy\ninstagram.com/djbirddy\nsoundcloud.com/djbirddy\nPHV\ninstagram.com/vladlenpahv\n———————————————————————\nThe event is 18+\, ID document required at the gate!\nDoors: 22.00 🚪 \nSee ya!
URL:https://www.kultuuriklubi.ee/event/30-09-tudengkonna-102-sunnipaev/
LOCATION:TalTech maa-alune parkla\, Tallinn\, Estonia
CATEGORIES:Üritused
ATTACH;FMTTYPE=image/jpeg:https://www.kultuuriklubi.ee/wp-content/uploads/2022/09/1410_image_305825522_475561294609249_1106236539470957262_n.jpg
ORGANIZER;CN="TT%C3%9C Kultuuriklubi":MAILTO:kontakt@kultuuriklubi.ee
END:VEVENT
END:VCALENDAR