BEGIN:VCALENDAR
VERSION:2.0
PRODID:-//TalTech Kultuuriklubi - ECPv6.15.20//NONSGML v1.0//EN
CALSCALE:GREGORIAN
METHOD:PUBLISH
X-ORIGINAL-URL:https://www.kultuuriklubi.ee
X-WR-CALDESC:Events for TalTech Kultuuriklubi
REFRESH-INTERVAL;VALUE=DURATION:PT1H
X-Robots-Tag:noindex
X-PUBLISHED-TTL:PT1H
BEGIN:VTIMEZONE
TZID:Europe/Tallinn
BEGIN:DAYLIGHT
TZOFFSETFROM:+0200
TZOFFSETTO:+0300
TZNAME:EEST
DTSTART:20220327T010000
END:DAYLIGHT
BEGIN:STANDARD
TZOFFSETFROM:+0300
TZOFFSETTO:+0200
TZNAME:EET
DTSTART:20221030T010000
END:STANDARD
BEGIN:DAYLIGHT
TZOFFSETFROM:+0200
TZOFFSETTO:+0300
TZNAME:EEST
DTSTART:20230326T010000
END:DAYLIGHT
BEGIN:STANDARD
TZOFFSETFROM:+0300
TZOFFSETTO:+0200
TZNAME:EET
DTSTART:20231029T010000
END:STANDARD
BEGIN:DAYLIGHT
TZOFFSETFROM:+0200
TZOFFSETTO:+0300
TZNAME:EEST
DTSTART:20240331T010000
END:DAYLIGHT
BEGIN:STANDARD
TZOFFSETFROM:+0300
TZOFFSETTO:+0200
TZNAME:EET
DTSTART:20241027T010000
END:STANDARD
END:VTIMEZONE
BEGIN:VEVENT
DTSTART;TZID=Europe/Tallinn:20230828T220000
DTEND;TZID=Europe/Tallinn:20230829T040000
DTSTAMP:20260420T155430
CREATED:20230803T122628Z
LAST-MODIFIED:20230803T122753Z
UID:1693-1693260000-1693281600@www.kultuuriklubi.ee
SUMMARY:[28.08] Semestri Avalöök 2023
DESCRIPTION:ENG BELOW\n\nTe ei kujuta ette kui väga me teiega pidutsemist oleme igatsenud!\nTTÜ Kultuuriklubi korraldatav peosari – Triloogia\, saab alguse mega bängeri peoga: SEMESTRI AVALÖÖK 2023!\nSuvi on küll lõppemas\, aga üks õige TalTechi tudeng ei saa seda ära saata ilma suure peota! Selleks\, et suvele üks korralik punkt panna ja kooliaasta õigesti vastu võtta\, ootame teid nii uute kui ka vanade sõprade seltsis Patarei Merekindlusesse!\nSeal ootavad teid ülibängerid esinejad\, eesotsas BEDWETTERS\,  kes kohe kindlasti ei karda uut kooliaastat korralikult käima tõmmata!\nNB! Peole ootame absoluutselt kõiki tudengeid\, nii TalTechist kui ka teistest ülikoolidest ning loomulikult ka kõiki neid\, kes koolipinki ei nühi.\n— — —\nPILETIINFO:\n 10 € varajane peoloom\n…\nLINK: https://gateme.com/avalook/98643-semestri-avalook-2023/\n— — —\nLINE UP:\npealava:\nBedwetters\nBoipepperoni\nPahv X Kendik\nPowerpuff Girls\nmott. lava:\nJojo\nBirddy\nLöukii\nPidu on 18+ ning sissepääs dokumendi alusel.\nUksed: 22.00.\n— — —\nKallid rebased!\nÄrge unustage minna ka TalTechi üliõpilasesinduse poolt korraldatavale orienteerumisele\, kus kohtud esimest korda oma kursusekaaslastega. Kohal on kõik TalTechi uued rebased. Saad tutvuda nii tudengiorganisatsioonidega kui ka TalTechi campusega. Algus 15:30 Raja 4D ühika taga.\nEvendi link: https://fb.me/e/2RpXvlQUV\nNäeme peol!\n— — —\nENG:\nTRILOGY begins!!!\nThe trilogy party series organized by the TTÜ Culture Club begins with a mega banger party: SEMESTER OPENING 2023!\nSummer may be coming to an end\, but one true TalTech student can’t send it off without a big party!\nIn order to put a right end to the summer and welcome the school year in the right way\, we are waiting for you to take steps towards the Patarei Sea Fortress in the company of both new and old friends.\nAwesome performers are waiting for you in Patarei\, who are not afraid to get the new school year off to a good start.\nNB! Everyone is welcome to the party\, regardless of the student status.\n— — —\nTICKETS:\n10 € Early bird\n…\nLINK: https://gateme.com/avalook/98643-semestri-avalook-2023/\n— — —\nLINE UP:\nmain stage:\nBedwetters\nBoipepperoni\nPahv X Kendik\nPowerpuff Girls\nmott. stage:\nJojo\nBirddy\nLöukii\nThe party is 18+ and entry is based on a document.\nDoors: 22.00\n— — —\nDear foxes!\nDon’t forget to attend the orientation organized by the TalTech Student Council\, where you will meet your fellow students for the first time. All TalTech’s new foxes are present. You can get to know the student organizations as well as the TalTech campus. Start 13:45 behind the Raja 4D building.\nEvent link: https://fb.me/e/2RpXvlQUV\nSee you at the party!
URL:https://www.kultuuriklubi.ee/event/28-08-semestri-avalook-2023/
LOCATION:Patarei Merekindlus\, Kalaranna 28\, Tallinn\, 10415\, EE
ATTACH;FMTTYPE=image/png:https://www.kultuuriklubi.ee/wp-content/uploads/2023/08/Avalook23-FB-1920x1005-Asukohaga.png
ORGANIZER;CN="TT%C3%9C Kultuuriklubi":MAILTO:kontakt@kultuuriklubi.ee
END:VEVENT
END:VCALENDAR