BEGIN:VCALENDAR
VERSION:2.0
PRODID:-//TalTech Kultuuriklubi - ECPv6.15.20//NONSGML v1.0//EN
CALSCALE:GREGORIAN
METHOD:PUBLISH
X-ORIGINAL-URL:https://www.kultuuriklubi.ee
X-WR-CALDESC:Events for TalTech Kultuuriklubi
REFRESH-INTERVAL;VALUE=DURATION:PT1H
X-Robots-Tag:noindex
X-PUBLISHED-TTL:PT1H
BEGIN:VTIMEZONE
TZID:Europe/Tallinn
BEGIN:DAYLIGHT
TZOFFSETFROM:+0200
TZOFFSETTO:+0300
TZNAME:EEST
DTSTART:20210328T010000
END:DAYLIGHT
BEGIN:STANDARD
TZOFFSETFROM:+0300
TZOFFSETTO:+0200
TZNAME:EET
DTSTART:20211031T010000
END:STANDARD
BEGIN:DAYLIGHT
TZOFFSETFROM:+0200
TZOFFSETTO:+0300
TZNAME:EEST
DTSTART:20220327T010000
END:DAYLIGHT
BEGIN:STANDARD
TZOFFSETFROM:+0300
TZOFFSETTO:+0200
TZNAME:EET
DTSTART:20221030T010000
END:STANDARD
BEGIN:DAYLIGHT
TZOFFSETFROM:+0200
TZOFFSETTO:+0300
TZNAME:EEST
DTSTART:20230326T010000
END:DAYLIGHT
BEGIN:STANDARD
TZOFFSETFROM:+0300
TZOFFSETTO:+0200
TZNAME:EET
DTSTART:20231029T010000
END:STANDARD
END:VTIMEZONE
BEGIN:VEVENT
DTSTART;TZID=Europe/Tallinn:20220822T223000
DTEND;TZID=Europe/Tallinn:20220823T040000
DTSTAMP:20260421T071650
CREATED:20220728T105310Z
LAST-MODIFIED:20220728T105310Z
UID:1357-1661207400-1661227200@www.kultuuriklubi.ee
SUMMARY:[22.08] Semestri Avalöök
DESCRIPTION:↓ !ENGLISH BELOW! ↓ \nJa ongi kohe käes see suurejooneline sügis!🍁 \n↓ Semestri Avalöök on 1. samm kolmest\, et saada rebasest täistõuliseks tipikaks ↓ \nTalTech Kultuuriklubi korraldatav tudengiellu sissepühitsemise üritustesari TRILOOGIA saab alguse ühe imelise üritusega: Semestri Avalöök 2022! 🥊🥊 \nTõmbame üheskoos uue kooliaasta käima megabängeri peoga\, 🍾mis paneb lõppenud suvele meeldejääva punkti ja annab algavale semestrile vägeva Avalöögi! TRILOOGIA esimese verstaposti edukaks läbimiseks tuleb sammud seada Patarei Merekindlusesse 🌊 ning nautida õhtut täiel rinnal uute ja vanade sõprade seltsis. \nNB! Peole on oodatud kõik\, olenemata tudengistaatusest.\n———————————————————————\nPILETID:\n🎟 10 € varajane linnuke\n🎟 12 € õigel ajal jaole saanud linnuke\n🎟 15 € hiline linnuke\n🎟 20 € liiga hiline linnuke/kohapeal\nLINK: https://gateme.com/avalook/97075-semestri-avalook-2022/\n———————————————————————\nLINE UP\nVälilava:\n🎤 villemdrillem\nyoutu.be/muk0rNpYggs\ninstagram.com/villemdrillem/\n🎤Pluuto\nyoutu.be/RSVVaBGs7fY\ninstagram.com/pluuto/\n🎤Heleza\nyoutu.be/tyELgrVIu1w\ninstagram.com/heleza/\n🎤 Notitz\nsoundcloud.com/user-362090422\ninstagram.com/notitzmusic/\n🎤2orkiz\ninstagram.com/2orkiz/\n🎤Kendik\nsoundcloud.com/kent-marcus\ninstagram.com/kentmarcus/\n🎤PHV\ninstagram.com/vladlenpahv \nSiselava:\n🎤Löukii x Birddy (one time special 6h set)\ninstagram.com/l6ukii\nsoundcloud.com/l6ukii\ninstagram.com/djbirddy\nsoundcloud.com/djbirddy \nTegu on 18+ üritusega\, sissepääs vaid dokumendi alusel!\nUksed: 22.30 🚪\n———————————————————————\nKallid rebased: 🦊\nÄrge unustage enne pidu minemast TalTech Üliõpilasesinduse poolt korraldatavale seiklusrohkele orienteerumisele\, mis viib teid kurssi TalTech campusega\, tutvustab erinevaid tudengiorganisatsioone ning mille raames kohtud esimest korda kõigi oma kaasrebastega. Algus 15:00 TalTech UFO platsil (rahvusvahelistel tasemeõppe tudengitel 16:00).\nEvendi link: https://fb.me/e/53OqW0oMd \nNäeme tantsuplatsil!! 🕺 \n>>>>>>>>>>>>>>>>>>>>>>>>>>>>>>>>>>>>>>>>>>>> \n!ENGLISH! \nThis crazy autumn is just around the corner! 🍁 \n↓ “Semestri Avalöök” is first step out of three\, to become a full valued student↓ \nTRILOGY\, the event series organized by TalTech Culture Club\, begins with a wonderful event: Semestri Avalöök 2022! 🥊🥊 \nThe school year begins with a memorable party 🍾 to end the summer and kick-off a great new semester. To successfully pass the first milestone of the TRILOGY\, you must come to Patarei Merekindlus 🌊and enjoy the company of your old friends and new friends. \nNB! Everyone is welcome at the party\, regardless of the student status.\n———————————————————————\nTICKETS:\n🎟 10 € early bird\n🎟 12 € regular bird\n🎟 15 € late bird\n🎟 20 € extra late bird\nLINK: https://gateme.com/avalook/97075-semestri-avalook-2022/\n———————————————————————\nLINE UP\nOutside stage:\n🎤 villemdrillem\nyoutu.be/muk0rNpYggs\ninstagram.com/villemdrillem/\n🎤Pluuto\nyoutu.be/RSVVaBGs7fY\ninstagram.com/pluuto/\n🎤Heleza\nyoutu.be/tyELgrVIu1w\ninstagram.com/heleza/\n🎤 Notitz\nsoundcloud.com/user-362090422\ninstagram.com/notitzmusic/\n🎤2orkiz\ninstagram.com/2orkiz/\n🎤Kendik\nsoundcloud.com/kent-marcus\ninstagram.com/kentmarcus/\n🎤PHV\ninstagram.com/vladlenpahv \nInside stage:\n🎤Löukii\ninstagram.com/l6ukii\nsoundcloud.com/l6ukii\n🎤Birddy\ninstagram.com/djbirddy\nsoundcloud.com/djbirddy \n———————————————————————\nThe event is 18+\, ID document required at the gate!\nDoors: 22.30 🚪\n———————————————————————\nDear Foxes: 🦊\nBefore the party\, don’t forget to go to the adventurous orientation organized by the TalTech Student Council\, which will introduce you to the TalTech campus\, and various student organizations\, during which you will meet all your fellow foxes for the first time. Start is at 16:00 for international students at the TalTech UFO square (15:00 for Estonian students).\nEvent link: https://fb.me/e/53OqW0oMd \nSee you on the dance floor!! 🕺
URL:https://www.kultuuriklubi.ee/event/22-08-semestri-avalook/
LOCATION:Patarei Merekindlus\, Kalaranna 28\, Tallinn\, 10415\, EE
CATEGORIES:Üritused
ATTACH;FMTTYPE=image/jpeg:https://kultuuriklubi.ee/wp-content/uploads/2022/07/1357_image_295494808_5367022473343586_7893240682841114813_n.jpg
ORGANIZER;CN="TT%C3%9C Kultuuriklubi":MAILTO:kontakt@kultuuriklubi.ee
END:VEVENT
BEGIN:VEVENT
DTSTART;TZID=Europe/Tallinn:20220830T190000
DTEND;TZID=Europe/Tallinn:20220830T230000
DTSTAMP:20260421T071650
CREATED:20220817T223442Z
LAST-MODIFIED:20220829T202452Z
UID:1393-1661886000-1661900400@www.kultuuriklubi.ee
SUMMARY:[30.08] Kultuuriklubi tutvumisõhtu
DESCRIPTION:Heii!☺️ \nJuba kohe-kohe algab uus ja vägev kooliaasta 📚 ning Kultuuriklubi ootab taas enda ridadesse aktiivseid ja tegusaid liikmeid! \nKui tunned\, et tahaksid osa saada kõige vingematest ja omapärasematest TalTechi sündmuste korraldamisest ning hoida üleval kohalikku Tudengivaimu\, siis Kultuuriklubi on just Sulle õige koht!👯‍♀️ \nOotame tutvumisõhtule Sind\, Sinu sõpru\, sõprade sõpru ja võib-olla ka su vanaema kell 19\, vähemalt korra\, vabalt valitud kuupäeval (30.08\, 31.08\, 05.09 või 14.09)\, et saaksime Sulle lähemalt oma tegemistest rääkida.\n—————————————\nKus toimub? 📌\n30.08 – Tudengimajas\n31.08 – Tudengimajas\n05.09 – U06 saunas\n14.09 – Tudengimajas\, Kultuuriklubi kontoris\n—————————————\nKuidas õige koha üles leian? 🧭 \nÄra üldse muretse\, selle kohta tulevad nii täiendavad postitused\, kui ka teeviidad/sildikesed\, mis juhatavad su peamaja fuajeest õigesse asukohta.\n—————————————\nRohkem infi: \nTutvumisõhtute saagale annab kahel esimesel päeval 💥avapaugu💥 U-06 vahetus läheduses\, õuealal toimuv\, parima vaibiga chill 🎉 \nKolmandal tutvumisõhtul paneme teie nelipealihaseid võnkuma 4-biit taktis\, 🤯 U-06 saunas\, kus saad niisama chillida või siis hoopis kuumust nautida. Kindlasti ei puudu sealt ka need kõige särtsakamad Kultuuriklubi saladused. 🤫 \nTutvumisõhtutele anname lõpp-punkti Kultuuriklubi igapäevases 🏠pesitsuspaigas🏠 – Kultuuriklubi kontoris\, kus kehtib vanasõna\, et häid Kultuuriklubikaid mahub ikka palju väikesesse ruumi 🌡️. \nKindlasti ei puudu üheltki tutvumisõhtult lahedad mängud; muusikat mängivad 🎧entusiastid; teadmised Kultuuriklubi tegevustest; uued juhu-tuttavad; miskit hambaaugu 🍕täidet; sõbrad kogu eluks ja isegi Sina.\n—————————————\nAttenzioone! Kui Sul ei õnnestu meiega ühelgi päeval ühineda\, aga siiski tahad meie vahva satsiga kokku saada\, siis kirjuta meie armsale liikmehaldurile Merilynile meiliaadressil merilyn.pahkel@kultuuriklubi.ee\, sest kui kuidagi ei saa\, siis kuidagi ikka saab! 💪🏻 \nOotusärevuses viska pilk peale meie Instagramile 📸 @ttukultuuriklubi ning Facebookile TTÜ Kultuuriklubi\, kust saad juba veidike aimu\, et mis või kes on üldse Kultuuriklubi. \nSee ya!🤘🏻
URL:https://www.kultuuriklubi.ee/event/30-08-kultuuriklubi-tutvumisohtu/
LOCATION:TalTech – Tallinn University of Technology\, Ehitajate street 5\, Tallinn\, 19086\, EE
CATEGORIES:Üritused
ATTACH;FMTTYPE=image/jpeg:https://kultuuriklubi.ee/wp-content/uploads/2022/08/1389_image_299191399_5428441957201637_657068547110363942_n.jpg
ORGANIZER;CN="TT%C3%9C Kultuuriklubi":MAILTO:kontakt@kultuuriklubi.ee
END:VEVENT
BEGIN:VEVENT
DTSTART;TZID=Europe/Tallinn:20220831T190000
DTEND;TZID=Europe/Tallinn:20220831T230000
DTSTAMP:20260421T071650
CREATED:20220817T223557Z
LAST-MODIFIED:20220829T202500Z
UID:1392-1661972400-1661986800@www.kultuuriklubi.ee
SUMMARY:[31.08] Kultuuriklubi tutvumisõhtu
DESCRIPTION:Heii!☺️ \nJuba kohe-kohe algab uus ja vägev kooliaasta 📚 ning Kultuuriklubi ootab taas enda ridadesse aktiivseid ja tegusaid liikmeid! \nKui tunned\, et tahaksid osa saada kõige vingematest ja omapärasematest TalTechi sündmuste korraldamisest ning hoida üleval kohalikku Tudengivaimu\, siis Kultuuriklubi on just Sulle õige koht!👯‍♀️ \nOotame tutvumisõhtule Sind\, Sinu sõpru\, sõprade sõpru ja võib-olla ka su vanaema kell 19\, vähemalt korra\, vabalt valitud kuupäeval (30.08\, 31.08\, 05.09 või 14.09)\, et saaksime Sulle lähemalt oma tegemistest rääkida.\n—————————————\nKus toimub? 📌\n30.08 – Tudengimajas\n31.08 – Tudengimajas\n05.09 – U06 saunas\n14.09 – Tudengimajas\, Kultuuriklubi kontoris\n—————————————\nKuidas õige koha üles leian? 🧭 \nÄra üldse muretse\, selle kohta tulevad nii täiendavad postitused\, kui ka teeviidad/sildikesed\, mis juhatavad su peamaja fuajeest õigesse asukohta.\n—————————————\nRohkem infi: \nTutvumisõhtute saagale annab kahel esimesel päeval 💥avapaugu💥 U-06 vahetus läheduses\, õuealal toimuv\, parima vaibiga chill 🎉 \nKolmandal tutvumisõhtul paneme teie nelipealihaseid võnkuma 4-biit taktis\, 🤯 U-06 saunas\, kus saad niisama chillida või siis hoopis kuumust nautida. Kindlasti ei puudu sealt ka need kõige särtsakamad Kultuuriklubi saladused. 🤫 \nTutvumisõhtutele anname lõpp-punkti Kultuuriklubi igapäevases 🏠pesitsuspaigas🏠 – Kultuuriklubi kontoris\, kus kehtib vanasõna\, et häid Kultuuriklubikaid mahub ikka palju väikesesse ruumi 🌡️. \nKindlasti ei puudu üheltki tutvumisõhtult lahedad mängud; muusikat mängivad 🎧entusiastid; teadmised Kultuuriklubi tegevustest; uued juhu-tuttavad; miskit hambaaugu 🍕täidet; sõbrad kogu eluks ja isegi Sina.\n—————————————\nAttenzioone! Kui Sul ei õnnestu meiega ühelgi päeval ühineda\, aga siiski tahad meie vahva satsiga kokku saada\, siis kirjuta meie armsale liikmehaldurile Merilynile meiliaadressil merilyn.pahkel@kultuuriklubi.ee\, sest kui kuidagi ei saa\, siis kuidagi ikka saab! 💪🏻 \nOotusärevuses viska pilk peale meie Instagramile 📸 @ttukultuuriklubi ning Facebookile TTÜ Kultuuriklubi\, kust saad juba veidike aimu\, et mis või kes on üldse Kultuuriklubi. \nSee ya!🤘🏻
URL:https://www.kultuuriklubi.ee/event/31-08-kultuuriklubi-tutvumisohtu/
LOCATION:TalTech – Tallinn University of Technology\, Ehitajate street 5\, Tallinn\, 19086\, EE
CATEGORIES:Üritused
ATTACH;FMTTYPE=image/jpeg:https://kultuuriklubi.ee/wp-content/uploads/2022/08/1389_image_299191399_5428441957201637_657068547110363942_n.jpg
ORGANIZER;CN="TT%C3%9C Kultuuriklubi":MAILTO:kontakt@kultuuriklubi.ee
END:VEVENT
END:VCALENDAR